BEGIN:VCALENDAR
PRODID:-//eluceo/ical//2.0/EN
VERSION:2.0
CALSCALE:GREGORIAN
BEGIN:VEVENT
UID:e2fe3adb4221c7e8c217f526e38a75ec
DTSTAMP:20260423T233810Z
SUMMARY:ZOA Speaker Israel Maimon
DESCRIPTION:Jewish Federation of Greater Naples\nCommunity Calendar\nhttps:
 //jewishnaples.org/calendar/zoa-speaker-israel-maimon-1557948225\n\nZOA Bu
 y your tickets through ZOA
DTSTART;TZID=America/New_York:20200325T193000
DTEND;TZID=America/New_York:20200325T213000
END:VEVENT
END:VCALENDAR
