BEGIN:VCALENDAR
PRODID:-//eluceo/ical//2.0/EN
VERSION:2.0
CALSCALE:GREGORIAN
BEGIN:VEVENT
UID:08291e634d6dddad407dd63f912c527e
DTSTAMP:20260420T073640Z
SUMMARY:ZOA\, Dr. Shoula Romano Horing
DESCRIPTION:Jewish Federation of Greater Naples\nCommunity Calendar\nhttps:
 //jewishnaples.org/calendar/zoa-dr-shoula-romano-horing\n\nZOA presents\n\
 nDr. Shoula Romano Horing\n\n​For more information\, contact: JerrySobe
 l@aol.com
DTSTART;TZID=America/New_York:20171206T193000
DTEND;TZID=America/New_York:20171206T213000
END:VEVENT
END:VCALENDAR
