BEGIN:VCALENDAR
PRODID:-//eluceo/ical//2.0/EN
VERSION:2.0
CALSCALE:GREGORIAN
BEGIN:VEVENT
UID:3eafde2efafe09f6e9fbe89037cf03af
DTSTAMP:20260422T121501Z
SUMMARY:ZOA\, Dr. Samuel Edelman
DESCRIPTION:Jewish Federation of Greater Naples\nCommunity Calendar\nhttps:
 //jewishnaples.org/calendar/zoa-dr-samuel-edelman\n\nZOA presents\n\nDr. S
 amiel Edelman\n\nThere is an insidious movement underfoot on American camp
 uses orchestrated by subversive\, Palestinian groups and their far left ad
 herents. it’s called the Boycott\, Divest\, and Sanction Movement (BDS).
   Deceitfully cunning\, it masks anti-Semitism in the guise of Anti-Zioni
 sm.  Relatively unreported due to the fact that it mainly effects Jewish 
 and Christian supporters of Israel\, its stringent lack of toleration\, an
 d violent tactics are designed to inti...
DTSTART;TZID=America/New_York:20180221T193000
DTEND;TZID=America/New_York:20180221T203000
END:VEVENT
END:VCALENDAR
