BEGIN:VCALENDAR
PRODID:-//eluceo/ical//2.0/EN
VERSION:2.0
CALSCALE:GREGORIAN
BEGIN:VEVENT
UID:3cf46a01ee27077b06230a7ba17f7fda
DTSTAMP:20260423T173505Z
SUMMARY:ZOA\, Susan Michael
DESCRIPTION:Jewish Federation of Greater Naples\nCommunity Calendar\nhttps:
 //jewishnaples.org/calendar/zoa-1526658867\n\nZOA\, Susan Michael at Chaba
 d
DTSTART;TZID=America/New_York:20190403T193000
DTEND;TZID=America/New_York:20190403T213000
END:VEVENT
END:VCALENDAR
