BEGIN:VCALENDAR
PRODID:-//eluceo/ical//2.0/EN
VERSION:2.0
CALSCALE:GREGORIAN
BEGIN:VEVENT
UID:60ff900f8d9273afda1b9c797b839441
DTSTAMP:20260423T104035Z
SUMMARY:Young Jewish Professional
DESCRIPTION:Jewish Federation of Greater Naples\nCommunity Calendar\nhttps:
 //jewishnaples.org/calendar/young-jewish-professional-1587471639\n\nSocial
  Hour
DTSTART;TZID=America/New_York:20200430T180000
DTEND;TZID=America/New_York:20200430T190000
END:VEVENT
END:VCALENDAR
