BEGIN:VCALENDAR
PRODID:-//eluceo/ical//2.0/EN
VERSION:2.0
CALSCALE:GREGORIAN
BEGIN:VEVENT
UID:5491074b6dc93502d37b30914e394bfd
DTSTAMP:20260423T110712Z
SUMMARY:Yom Kippur Family service
DESCRIPTION:Jewish Federation of Greater Naples\nCommunity Calendar\nhttps:
 //jewishnaples.org/calendar/yom-kippur-family-service-1495644953\n\nYom Ki
 ppur Family service
DTSTART;TZID=America/New_York:20170930T140000
DTEND;TZID=America/New_York:20170930T143000
END:VEVENT
END:VCALENDAR
