BEGIN:VCALENDAR
PRODID:-//eluceo/ical//2.0/EN
VERSION:2.0
CALSCALE:GREGORIAN
BEGIN:VEVENT
UID:f32460733657caf0ad34fa4f75e527b9
DTSTAMP:20260424T011457Z
SUMMARY:Yom HaShoah Community Event
DESCRIPTION:Jewish Federation of Greater Naples\nCommunity Calendar\nhttps:
 //jewishnaples.org/calendar/yom-hashoah-community-event-1685728358\n\n
DTSTART;TZID=America/New_York:20240505T160000
DTEND;TZID=America/New_York:20240505T170000
END:VEVENT
END:VCALENDAR
