BEGIN:VCALENDAR
PRODID:-//eluceo/ical//2.0/EN
VERSION:2.0
CALSCALE:GREGORIAN
BEGIN:VEVENT
UID:e97f48f06204d5486b983d872b0b6f61
DTSTAMP:20260423T021517Z
SUMMARY:Yom HaShoah
DESCRIPTION:Jewish Federation of Greater Naples\nCommunity Calendar\nhttps:
 //jewishnaples.org/calendar/yom-hashoah\n\nYom HaShoah 2016.pdf
DTSTART;TZID=America/New_York:20160504T170000
DTEND;TZID=America/New_York:20160504T180000
END:VEVENT
END:VCALENDAR
