BEGIN:VCALENDAR
PRODID:-//eluceo/ical//2.0/EN
VERSION:2.0
CALSCALE:GREGORIAN
BEGIN:VEVENT
UID:88878e346cbe5b419579204d8e0874fa
DTSTAMP:20260420T005036Z
SUMMARY:YJP meet at the Dining Room at The Club at Mediterra
DESCRIPTION:Jewish Federation of Greater Naples\nCommunity Calendar\nhttps:
 //jewishnaples.org/calendar/yjp-meet-at-the-dining-room-at-the-club-at-med
 iterra-1625598626\n\nMeet with member Ronnie Antik for cocktails and dinn
 er at The Club at Mediterra in Far North Naples\, East of 41\, WEst of Liv
 ingston\, North of Immokalee\, South of Bonita Beach Road
DTSTART;TZID=America/New_York:20211006T183000
DTEND;TZID=America/New_York:20211006T200000
END:VEVENT
END:VCALENDAR
