BEGIN:VCALENDAR
PRODID:-//eluceo/ical//2.0/EN
VERSION:2.0
CALSCALE:GREGORIAN
BEGIN:VEVENT
UID:607b4a44fe2fba1869fe6c9764488710
DTSTAMP:20260424T060044Z
SUMMARY:YJP June
DESCRIPTION:Jewish Federation of Greater Naples\nCommunity Calendar\nhttps:
 //jewishnaples.org/calendar/yjp-june\n\nYoung Jewish Professionals\n\nClic
 k here
DTSTART;TZID=America/New_York:20170611T163000
DTEND;TZID=America/New_York:20170611T173000
END:VEVENT
END:VCALENDAR
