BEGIN:VCALENDAR
PRODID:-//eluceo/ical//2.0/EN
VERSION:2.0
CALSCALE:GREGORIAN
BEGIN:VEVENT
UID:d32950ce3d103c88dea50339290f6041
DTSTAMP:20260422T202026Z
SUMMARY:YJP April
DESCRIPTION:Jewish Federation of Greater Naples\nCommunity Calendar\nhttps:
 //jewishnaples.org/calendar/yjp-april\n\nYoung Jewish Professional\n\nClic
 k here\n\n 
DTSTART;TZID=America/New_York:20170425T190000
DTEND;TZID=America/New_York:20170425T210000
END:VEVENT
END:VCALENDAR
