BEGIN:VCALENDAR
PRODID:-//eluceo/ical//2.0/EN
VERSION:2.0
CALSCALE:GREGORIAN
BEGIN:VEVENT
UID:45b66d37b903174d9bd63368582ada26
DTSTAMP:20260421T002020Z
SUMMARY:Yiddush Club
DESCRIPTION:Jewish Federation of Greater Naples\nCommunity Calendar\nhttps:
 //jewishnaples.org/calendar/yiddush-club\n\nYiddush Club meets at Temple S
 halom\n\n1st and 3rd Tuesday of the month\n\n10:00 am
DTSTART;TZID=America/New_York:20161101T100000
DTEND;TZID=America/New_York:20161101T100000
END:VEVENT
END:VCALENDAR
