BEGIN:VCALENDAR
PRODID:-//eluceo/ical//2.0/EN
VERSION:2.0
CALSCALE:GREGORIAN
BEGIN:VEVENT
UID:e430eeee31eeae2647996f28a5d8c941
DTSTAMP:20260422T010708Z
SUMMARY:Year End Tax planning Webinar
DESCRIPTION:Jewish Federation of Greater Naples\nCommunity Calendar\nhttps:
 //jewishnaples.org/calendar/year-end-tax-planning-webinar-1662565787\n\nPl
 ease join TOP Jewish Foundation at our complimentary\, informational webin
 ar\, "Year End Tax Planning"\n\nPlease register HERE\n\n \n\n \n\n 
DTSTART;TZID=America/New_York:20221130T120000
DTEND;TZID=America/New_York:20221130T130000
END:VEVENT
END:VCALENDAR
