BEGIN:VCALENDAR
PRODID:-//eluceo/ical//2.0/EN
VERSION:2.0
CALSCALE:GREGORIAN
BEGIN:VEVENT
UID:9b2ce9affc7ea27b5fce11e83bb0acaf
DTSTAMP:20260421T042535Z
SUMMARY:Write a book? And then what?
DESCRIPTION:Jewish Federation of Greater Naples\nCommunity Calendar\nhttps:
 //jewishnaples.org/calendar/write-a-book-and-then-what-1587472053\n\nHow t
 o publish a book talk.
DTSTART;TZID=America/New_York:20200518T123000
DTEND;TZID=America/New_York:20200518T133000
END:VEVENT
END:VCALENDAR
