BEGIN:VCALENDAR
PRODID:-//eluceo/ical//2.0/EN
VERSION:2.0
CALSCALE:GREGORIAN
BEGIN:VEVENT
UID:4030f0763a380d8fb1c873a964792fd3
DTSTAMP:20260425T154858Z
SUMMARY:Women of Wonder
DESCRIPTION:Jewish Federation of Greater Naples\nCommunity Calendar\nhttps:
 //jewishnaples.org/calendar/women-of-wonder-1765126620\n\nAvailable to WC
 A members.
DTSTART;TZID=America/New_York:20270121T100000
DTEND;TZID=America/New_York:20270121T120000
END:VEVENT
END:VCALENDAR
