BEGIN:VCALENDAR
PRODID:-//eluceo/ical//2.0/EN
VERSION:2.0
CALSCALE:GREGORIAN
BEGIN:VEVENT
UID:decaae6f91eb0db86ac96e1d37bebb8a
DTSTAMP:20260420T141554Z
SUMMARY:Women in Philanthropy Luncheon
DESCRIPTION:Jewish Federation of Greater Naples\nCommunity Calendar\nhttps:
 //jewishnaples.org/calendar/women-in-philanthropy-luncheon-1711467936\n\nW
 omen in Philanthropy Luncheon
DTSTART;TZID=America/New_York:20250123T090000
DTEND;TZID=America/New_York:20250123T150000
END:VEVENT
END:VCALENDAR
