BEGIN:VCALENDAR
PRODID:-//eluceo/ical//2.0/EN
VERSION:2.0
CALSCALE:GREGORIAN
BEGIN:VEVENT
UID:d97a5a2b7fde086e701bd19634e97cab
DTSTAMP:20260422T115949Z
SUMMARY:Welcome Rosh Hashanah with Beth Tikvah
DESCRIPTION:Jewish Federation of Greater Naples\nCommunity Calendar\nhttps:
 //jewishnaples.org/calendar/welcome-rosh-hashanah-with-beth-tikvah-1689357
 020\n\nRosh Hashonah services and dinner at Beth Tikvah.
DTSTART;TZID=America/New_York:20230915T181500
DTEND;TZID=America/New_York:20230915T203000
END:VEVENT
END:VCALENDAR
