BEGIN:VCALENDAR
PRODID:-//eluceo/ical//2.0/EN
VERSION:2.0
CALSCALE:GREGORIAN
BEGIN:VEVENT
UID:af709e3ad0929de9e3ca15eeccdd6c0b
DTSTAMP:20260420T035434Z
SUMMARY:WCA Welcome Back Luncheon at Arthrex
DESCRIPTION:Jewish Federation of Greater Naples\nCommunity Calendar\nhttps:
 //jewishnaples.org/calendar/wca-welcome-back-luncheon-at-arthrex-171648162
 6\n\nAnnual WCA Welcome Back Luncheon-400 members
DTSTART;TZID=America/New_York:20241115T113000
DTEND;TZID=America/New_York:20241115T143000
END:VEVENT
END:VCALENDAR
