BEGIN:VCALENDAR
PRODID:-//eluceo/ical//2.0/EN
VERSION:2.0
CALSCALE:GREGORIAN
BEGIN:VEVENT
UID:1a8052bdbbf23a304c40a909e6134fd6
DTSTAMP:20260423T010053Z
SUMMARY:WCA Welcome Back Program
DESCRIPTION:Jewish Federation of Greater Naples\nCommunity Calendar\nhttps:
 //jewishnaples.org/calendar/wca-welcome-back-luncheon-1576854483\n\nSave t
 he date!\nWelcome Back Program for WCA members.
DTSTART;TZID=America/New_York:20201119T160000
DTEND;TZID=America/New_York:20201119T170000
END:VEVENT
END:VCALENDAR
