BEGIN:VCALENDAR
PRODID:-//eluceo/ical//2.0/EN
VERSION:2.0
CALSCALE:GREGORIAN
BEGIN:VEVENT
UID:20a30065fdd52fe6b4e626294b713791
DTSTAMP:20260423T173302Z
SUMMARY:WCA Welcome Back Luncheon
DESCRIPTION:Jewish Federation of Greater Naples\nCommunity Calendar\nhttps:
 //jewishnaples.org/calendar/wca-welcome-back-luncheon\n\nWCA Welcome Back
  luncheon
DTSTART;TZID=America/New_York:20161110T113000
DTEND;TZID=America/New_York:20161110T113000
END:VEVENT
END:VCALENDAR
