BEGIN:VCALENDAR
PRODID:-//eluceo/ical//2.0/EN
VERSION:2.0
CALSCALE:GREGORIAN
BEGIN:VEVENT
UID:83f021a95b58ffbcce6b7c8c322cf0bc
DTSTAMP:20260424T104452Z
SUMMARY:WCA Welcome Back Lunch
DESCRIPTION:Jewish Federation of Greater Naples\nCommunity Calendar\nhttps:
 //jewishnaples.org/calendar/wca-welcome-back-lunch\n\nWCA\n\nWelcome back 
 lunch
DTSTART;TZID=America/New_York:20171108T110000
DTEND;TZID=America/New_York:20171108T110000
END:VEVENT
END:VCALENDAR
