BEGIN:VCALENDAR
PRODID:-//eluceo/ical//2.0/EN
VERSION:2.0
CALSCALE:GREGORIAN
BEGIN:VEVENT
UID:0c57f7920ad4b269475ecc16b426e6ab
DTSTAMP:20260423T164641Z
SUMMARY:WCA Volunteer Appreciation
DESCRIPTION:Jewish Federation of Greater Naples\nCommunity Calendar\nhttps:
 //jewishnaples.org/calendar/wca-volunteer-appreciation-1758726595\n\nThe W
 CA Volunteer Appreciation event is a special celebration dedicated to hono
 ring the time\, talents\, and dedication of the Women's Cultural Alliance 
 volunteers. Our volunteers are the heart of WCA\, and this event is our wa
 y of expressing deep gratitude for your invaluable contributions.
DTSTART;TZID=America/New_York:20260415T100000
DTEND;TZID=America/New_York:20260415T160000
END:VEVENT
END:VCALENDAR
