BEGIN:VCALENDAR
PRODID:-//eluceo/ical//2.0/EN
VERSION:2.0
CALSCALE:GREGORIAN
BEGIN:VEVENT
UID:ecd8a90f6e30dc8597af176117895b02
DTSTAMP:20260423T123353Z
SUMMARY:WCA Trivia Day
DESCRIPTION:Jewish Federation of Greater Naples\nCommunity Calendar\nhttps:
 //jewishnaples.org/calendar/wca-trivia-day-1560868131\n\nWCA members
DTSTART;TZID=America/New_York:20200210T100000
DTEND;TZID=America/New_York:20200210T160000
END:VEVENT
END:VCALENDAR
