BEGIN:VCALENDAR
PRODID:-//eluceo/ical//2.0/EN
VERSION:2.0
CALSCALE:GREGORIAN
BEGIN:VEVENT
UID:a44f8317b84f728276dd3076b36d2e09
DTSTAMP:20260425T170828Z
SUMMARY:WCA South Dolphin
DESCRIPTION:Jewish Federation of Greater Naples\nCommunity Calendar\nhttps:
 //jewishnaples.org/calendar/wca-south-dolphin-1769114862\n\nWCA South Dolp
 hin Explorer
DTSTART;TZID=America/New_York:20261104T094500
DTEND;TZID=America/New_York:20261104T130000
END:VEVENT
END:VCALENDAR
