BEGIN:VCALENDAR
PRODID:-//eluceo/ical//2.0/EN
VERSION:2.0
CALSCALE:GREGORIAN
BEGIN:VEVENT
UID:08f786ae11262c44ef7f3d79523097d0
DTSTAMP:20260424T070319Z
SUMMARY:WCA South
DESCRIPTION:Jewish Federation of Greater Naples\nCommunity Calendar\nhttps:
 //jewishnaples.org/calendar/wca-south-1739467430\n\nWCA South
DTSTART;TZID=America/New_York:20260210T130000
DTEND;TZID=America/New_York:20260210T160000
END:VEVENT
END:VCALENDAR
