BEGIN:VCALENDAR
PRODID:-//eluceo/ical//2.0/EN
VERSION:2.0
CALSCALE:GREGORIAN
BEGIN:VEVENT
UID:36ac1924baaf8d24ab79328ba92b596a
DTSTAMP:20260424T060847Z
SUMMARY:WCA Sip & Shop
DESCRIPTION:Jewish Federation of Greater Naples\nCommunity Calendar\nhttps:
 //jewishnaples.org/calendar/wca-sip--shop-1739282815\n\nSocial outing for 
 WCA members
DTSTART;TZID=America/New_York:20250403T160000
DTEND;TZID=America/New_York:20250403T190000
END:VEVENT
END:VCALENDAR
