BEGIN:VCALENDAR
PRODID:-//eluceo/ical//2.0/EN
VERSION:2.0
CALSCALE:GREGORIAN
BEGIN:VEVENT
UID:7291e28dbb10a0cd7cf49a2c63660fbf
DTSTAMP:20260423T062934Z
SUMMARY:WCA Seder
DESCRIPTION:Jewish Federation of Greater Naples\nCommunity Calendar\nhttps:
 //jewishnaples.org/calendar/wca-seder-1716483217\n\nWCA Passover Seder at 
 the Quarry
DTSTART;TZID=America/New_York:20250412T170000
DTEND;TZID=America/New_York:20250412T210000
END:VEVENT
END:VCALENDAR
