BEGIN:VCALENDAR
PRODID:-//eluceo/ical//2.0/EN
VERSION:2.0
CALSCALE:GREGORIAN
BEGIN:VEVENT
UID:79c99ecb7fbaeb87c2011c100e52f79c
DTSTAMP:20260423T041313Z
SUMMARY:WCA North Luncheon
DESCRIPTION:Jewish Federation of Greater Naples\nCommunity Calendar\nhttps:
 //jewishnaples.org/calendar/wca-north-luncheon-1560784575\n\nWCA members o
 nly. Please confirm the time and place.
DTSTART;TZID=America/New_York:20200110T120000
DTEND;TZID=America/New_York:20200110T140000
END:VEVENT
END:VCALENDAR
