BEGIN:VCALENDAR
PRODID:-//eluceo/ical//2.0/EN
VERSION:2.0
CALSCALE:GREGORIAN
BEGIN:VEVENT
UID:fcc0ab1ae3d18941a32edb36fa245bec
DTSTAMP:20260424T073649Z
SUMMARY:WCA-MCA Canasta Night
DESCRIPTION:Jewish Federation of Greater Naples\nCommunity Calendar\nhttps:
 //jewishnaples.org/calendar/wca-mca-canasta-night-1709751944\n\nWCA/MCA Ca
 nasta Night  Thursday\,January 16
DTSTART;TZID=America/New_York:20250116T180000
DTEND;TZID=America/New_York:20250116T213000
END:VEVENT
END:VCALENDAR
