BEGIN:VCALENDAR
PRODID:-//eluceo/ical//2.0/EN
VERSION:2.0
CALSCALE:GREGORIAN
BEGIN:VEVENT
UID:1a8715fcb6127adb4881ba8fa55070ca
DTSTAMP:20260423T191059Z
SUMMARY:WCA MahJongg Day
DESCRIPTION:Jewish Federation of Greater Naples\nCommunity Calendar\nhttps:
 //jewishnaples.org/calendar/wca-mahjongg-day\n\nWCA Mah Jongg Day\nWednesd
 ay\, January 22 at the Vineyards
DTSTART;TZID=America/New_York:20250122T100000
DTEND;TZID=America/New_York:20250122T150000
END:VEVENT
END:VCALENDAR
