BEGIN:VCALENDAR
PRODID:-//eluceo/ical//2.0/EN
VERSION:2.0
CALSCALE:GREGORIAN
BEGIN:VEVENT
UID:3bac21d640154282cb0cfd1493081831
DTSTAMP:20260424T045145Z
SUMMARY:WCA Mah Jongg Day
DESCRIPTION:Jewish Federation of Greater Naples\nCommunity Calendar\nhttps:
 //jewishnaples.org/calendar/wca-mah-jongg-day-1738789835\n\nWCA Mah Jongg 
 Day
DTSTART;TZID=America/New_York:20260121T100000
DTEND;TZID=America/New_York:20260121T150000
END:VEVENT
END:VCALENDAR
