BEGIN:VCALENDAR
PRODID:-//eluceo/ical//2.0/EN
VERSION:2.0
CALSCALE:GREGORIAN
BEGIN:VEVENT
UID:b7129ccce4c8cc14cf8857ca8ae05029
DTSTAMP:20260424T013408Z
SUMMARY:WCA Mah Jongg Day
DESCRIPTION:Jewish Federation of Greater Naples\nCommunity Calendar\nhttps:
 //jewishnaples.org/calendar/wca-mah-jongg-day-1647972685\n\nWCA Mah Jongg 
 Day
DTSTART;TZID=America/New_York:20230124T100000
DTEND;TZID=America/New_York:20230124T150000
END:VEVENT
END:VCALENDAR
