BEGIN:VCALENDAR
PRODID:-//eluceo/ical//2.0/EN
VERSION:2.0
CALSCALE:GREGORIAN
BEGIN:VEVENT
UID:94c65367f7528059305a683fa42493f0
DTSTAMP:20260420T005205Z
SUMMARY:WCA Lunch and Fashion Show
DESCRIPTION:Jewish Federation of Greater Naples\nCommunity Calendar\nhttps:
 //jewishnaples.org/calendar/wca-lunch-and-fashion-show-1716483946\n\nLunch
  and Fashion Show at Molino's at the Promenade
DTSTART;TZID=America/New_York:20241023T110000
DTEND;TZID=America/New_York:20241023T150000
END:VEVENT
END:VCALENDAR
