BEGIN:VCALENDAR
PRODID:-//eluceo/ical//2.0/EN
VERSION:2.0
CALSCALE:GREGORIAN
BEGIN:VEVENT
UID:47b6767538bf9104a3ebcc174a6cbb5c
DTSTAMP:20260423T203651Z
SUMMARY:WCA International Potluck
DESCRIPTION:Jewish Federation of Greater Naples\nCommunity Calendar\nhttps:
 //jewishnaples.org/calendar/wca-international-potluck-1758725965\n\nJoin u
 s for an exciting International Potluck! Bring an ethnic dish to share\, a
 long with stories and photos from your travels abroad. It’s a delicious 
 opportunity to experience diverse cuisines and connect with others through
  shared global experiences.
DTSTART;TZID=America/New_York:20260302T110000
DTEND;TZID=America/New_York:20260302T140000
END:VEVENT
END:VCALENDAR
