BEGIN:VCALENDAR
PRODID:-//eluceo/ical//2.0/EN
VERSION:2.0
CALSCALE:GREGORIAN
BEGIN:VEVENT
UID:883afd529e0078cd7aa26559cbccd9ec
DTSTAMP:20260420T141417Z
SUMMARY:WCA FASHION SHOW
DESCRIPTION:Jewish Federation of Greater Naples\nCommunity Calendar\nhttps:
 //jewishnaples.org/calendar/wca-fashion-show-1650567635\n\nWCA will update
  the listing with details and location as they are finalized.\n
DTSTART;TZID=America/New_York:20230116T113000
DTEND;TZID=America/New_York:20230116T153000
END:VEVENT
END:VCALENDAR
