BEGIN:VCALENDAR
PRODID:-//eluceo/ical//2.0/EN
VERSION:2.0
CALSCALE:GREGORIAN
BEGIN:VEVENT
UID:c130d8cc518465b7a3d249fc41778074
DTSTAMP:20260423T173405Z
SUMMARY:WCA Event
DESCRIPTION:Jewish Federation of Greater Naples\nCommunity Calendar\nhttps:
 //jewishnaples.org/calendar/wca-event-1734372700\n\nMore information comin
 g soon
DTSTART;TZID=America/New_York:20250303T110000
DTEND;TZID=America/New_York:20250303T150000
END:VEVENT
END:VCALENDAR
