BEGIN:VCALENDAR
PRODID:-//eluceo/ical//2.0/EN
VERSION:2.0
CALSCALE:GREGORIAN
BEGIN:VEVENT
UID:50afb4c08cf54d16de5b87f79754dfa5
DTSTAMP:20260424T014248Z
SUMMARY:WCA Dinner Dance
DESCRIPTION:Jewish Federation of Greater Naples\nCommunity Calendar\nhttps:
 //jewishnaples.org/calendar/wca-dinner-dance\n\nWCA
DTSTART;TZID=America/New_York:20161215T170000
DTEND;TZID=America/New_York:20161215T170000
END:VEVENT
END:VCALENDAR
