BEGIN:VCALENDAR
PRODID:-//eluceo/ical//2.0/EN
VERSION:2.0
CALSCALE:GREGORIAN
BEGIN:VEVENT
UID:314cc4545c9795a9b886dca9a5818d70
DTSTAMP:20260422T022859Z
SUMMARY:WCA Community of Friendship Luncheon
DESCRIPTION:Jewish Federation of Greater Naples\nCommunity Calendar\nhttps:
 //jewishnaples.org/calendar/wca-community-of-friendship-luncheon-162031162
 2\n\nLuncheon
DTSTART;TZID=America/New_York:20220221T100000
DTEND;TZID=America/New_York:20220221T150000
END:VEVENT
END:VCALENDAR
