BEGIN:VCALENDAR
PRODID:-//eluceo/ical//2.0/EN
VERSION:2.0
CALSCALE:GREGORIAN
BEGIN:VEVENT
UID:b335b3218193413201c2197ee208fe3d
DTSTAMP:20260424T070349Z
SUMMARY:WCA Chanukah Dinner Dance
DESCRIPTION:Jewish Federation of Greater Naples\nCommunity Calendar\nhttps:
 //jewishnaples.org/calendar/wca-chanukah-dinner-dance-1673293326\n\nWCA Ch
 anukah Dinner Dance
DTSTART;TZID=America/New_York:20231213T170000
DTEND;TZID=America/New_York:20231213T210000
END:VEVENT
END:VCALENDAR
