BEGIN:VCALENDAR
PRODID:-//eluceo/ical//2.0/EN
VERSION:2.0
CALSCALE:GREGORIAN
BEGIN:VEVENT
UID:3c3d44cef749b2ed0b693f3ad1b6eb30
DTSTAMP:20260422T063924Z
SUMMARY:WCA Chanukah Dance
DESCRIPTION:Jewish Federation of Greater Naples\nCommunity Calendar\nhttps:
 //jewishnaples.org/calendar/wca-chanukah-dance-1708096463\n\nSave the date
DTSTART;TZID=America/New_York:20241212T170000
DTEND;TZID=America/New_York:20241212T210000
END:VEVENT
END:VCALENDAR
