BEGIN:VCALENDAR
PRODID:-//eluceo/ical//2.0/EN
VERSION:2.0
CALSCALE:GREGORIAN
BEGIN:VEVENT
UID:f89880343f24a11bb404a91e94f19b1d
DTSTAMP:20260424T002551Z
SUMMARY:WCA Canasta Day
DESCRIPTION:Jewish Federation of Greater Naples\nCommunity Calendar\nhttps:
 //jewishnaples.org/calendar/wca-canasta-day-1738789889\n\nWCA Canasta Day
DTSTART;TZID=America/New_York:20260316T113000
DTEND;TZID=America/New_York:20260316T160000
END:VEVENT
END:VCALENDAR
