BEGIN:VCALENDAR
PRODID:-//eluceo/ical//2.0/EN
VERSION:2.0
CALSCALE:GREGORIAN
BEGIN:VEVENT
UID:20ce430ca8f8eecb4054d961eabda1a2
DTSTAMP:20260421T002439Z
SUMMARY:WCA Canasta Day
DESCRIPTION:Jewish Federation of Greater Naples\nCommunity Calendar\nhttps:
 //jewishnaples.org/calendar/wca-canasta-day-1647973590\n\nWCA Canasta Day
DTSTART;TZID=America/New_York:20230313T120000
DTEND;TZID=America/New_York:20230313T153000
END:VEVENT
END:VCALENDAR
