BEGIN:VCALENDAR
PRODID:-//eluceo/ical//2.0/EN
VERSION:2.0
CALSCALE:GREGORIAN
BEGIN:VEVENT
UID:d0ab4636d5f7ab07633fad0dd7937e7e
DTSTAMP:20260423T212156Z
SUMMARY:WCA Canasta at TS
DESCRIPTION:Jewish Federation of Greater Naples\nCommunity Calendar\nhttps:
 //jewishnaples.org/calendar/wca-canasta-at-ts\n\nWCA Canasta meets at Temp
 le Shalom\n\n1:00 pm
DTSTART;TZID=America/New_York:20161005T130000
DTEND;TZID=America/New_York:20161005T130000
END:VEVENT
END:VCALENDAR
