BEGIN:VCALENDAR
PRODID:-//eluceo/ical//2.0/EN
VERSION:2.0
CALSCALE:GREGORIAN
BEGIN:VEVENT
UID:626fd709fc3d0902d0200ddbf2464152
DTSTAMP:20260422T091526Z
SUMMARY:WCA Board Meeting Nov 20
DESCRIPTION:Jewish Federation of Greater Naples\nCommunity Calendar\nhttps:
 //jewishnaples.org/calendar/wca-board-meeting-nov-20-1768847559\n\nWCA
DTSTART;TZID=America/New_York:20261120T093000
DTEND;TZID=America/New_York:20261120T113000
END:VEVENT
END:VCALENDAR
