BEGIN:VCALENDAR
PRODID:-//eluceo/ical//2.0/EN
VERSION:2.0
CALSCALE:GREGORIAN
BEGIN:VEVENT
UID:aaa2d4b49a374ef35b315f8c5544a4ad
DTSTAMP:20260422T142042Z
SUMMARY:WCA Board Meeting May 21
DESCRIPTION:Jewish Federation of Greater Naples\nCommunity Calendar\nhttps:
 //jewishnaples.org/calendar/wca-board-meeting-may-21-1768848013\n\nWCA
DTSTART;TZID=America/New_York:20270521T093000
DTEND;TZID=America/New_York:20270521T113000
END:VEVENT
END:VCALENDAR
