BEGIN:VCALENDAR
PRODID:-//eluceo/ical//2.0/EN
VERSION:2.0
CALSCALE:GREGORIAN
BEGIN:VEVENT
UID:4432c1120a44ffc6137180fd3f30cddc
DTSTAMP:20260423T174844Z
SUMMARY:WCA Board Meeting June 26
DESCRIPTION:Jewish Federation of Greater Naples\nCommunity Calendar\nhttps:
 //jewishnaples.org/calendar/wca-board-meeting-june-26-1768847478\n\nWCA
DTSTART;TZID=America/New_York:20260626T093000
DTEND;TZID=America/New_York:20260626T113000
END:VEVENT
END:VCALENDAR
