BEGIN:VCALENDAR
PRODID:-//eluceo/ical//2.0/EN
VERSION:2.0
CALSCALE:GREGORIAN
BEGIN:VEVENT
UID:a845775db702c05dff2812ec6b7e967b
DTSTAMP:20260423T131329Z
SUMMARY:WCA Board Meeting Jan-April
DESCRIPTION:Jewish Federation of Greater Naples\nCommunity Calendar\nhttps:
 //jewishnaples.org/calendar/wca-board-meeting-jan-april\n\nWCA
DTSTART;TZID=America/New_York:20270122T093000
DTEND;TZID=America/New_York:20270122T113000
END:VEVENT
END:VCALENDAR
