BEGIN:VCALENDAR
PRODID:-//eluceo/ical//2.0/EN
VERSION:2.0
CALSCALE:GREGORIAN
BEGIN:VEVENT
UID:e5b20c5a93a8250c5ed21d3fa2ef318a
DTSTAMP:20260423T000335Z
SUMMARY:WCA Board Meeting Feb
DESCRIPTION:Jewish Federation of Greater Naples\nCommunity Calendar\nhttps:
 //jewishnaples.org/calendar/wca-board-meeting-feb\n\nWCA meets at the JFCC
DTSTART;TZID=America/New_York:20170224T090000
DTEND;TZID=America/New_York:20170224T090000
END:VEVENT
END:VCALENDAR
