BEGIN:VCALENDAR
PRODID:-//eluceo/ical//2.0/EN
VERSION:2.0
CALSCALE:GREGORIAN
BEGIN:VEVENT
UID:ee02a6bcbec35e8020a6faa317a38a97
DTSTAMP:20260422T204156Z
SUMMARY:WCA Board Meeting Dec
DESCRIPTION:Jewish Federation of Greater Naples\nCommunity Calendar\nhttps:
 //jewishnaples.org/calendar/wca-board-meeting-dec\n\nWCA meets at the JFCC
DTSTART;TZID=America/New_York:20161216T090000
DTEND;TZID=America/New_York:20161216T120000
END:VEVENT
END:VCALENDAR
