BEGIN:VCALENDAR
PRODID:-//eluceo/ical//2.0/EN
VERSION:2.0
CALSCALE:GREGORIAN
BEGIN:VEVENT
UID:271053117d089d6a82035babf8db28c8
DTSTAMP:20260422T173120Z
SUMMARY:WCA Board Meeting Aug-Oct
DESCRIPTION:Jewish Federation of Greater Naples\nCommunity Calendar\nhttps:
 //jewishnaples.org/calendar/wca-board-meeting-aug-oct-1768847525\n\nWCA
DTSTART;TZID=America/New_York:20260925T093000
DTEND;TZID=America/New_York:20260925T113000
END:VEVENT
END:VCALENDAR
